BEGIN:VCALENDAR
VERSION:2.0
PRODID:-//jEvents 2.0 for Joomla//EN
CALSCALE:GREGORIAN
METHOD:PUBLISH
BEGIN:VTIMEZONE
TZID:Europe/Athens
BEGIN:STANDARD
DTSTART:20200324T000000
RDATE:20200329T040000
TZOFFSETFROM:+0300
TZOFFSETTO:+0200
TZNAME:Europe/Athens EET
END:STANDARD
BEGIN:STANDARD
DTSTART:20201025T030000
RDATE:20210328T040000
TZOFFSETFROM:+0300
TZOFFSETTO:+0200
TZNAME:Europe/Athens EET
END:STANDARD
BEGIN:STANDARD
DTSTART:20211031T030000
RDATE:20220327T040000
TZOFFSETFROM:+0300
TZOFFSETTO:+0200
TZNAME:Europe/Athens EET
END:STANDARD
BEGIN:STANDARD
DTSTART:20221030T030000
RDATE:20230326T040000
TZOFFSETFROM:+0300
TZOFFSETTO:+0200
TZNAME:Europe/Athens EET
END:STANDARD
BEGIN:STANDARD
DTSTART:20231029T030000
RDATE:20240331T040000
TZOFFSETFROM:+0300
TZOFFSETTO:+0200
TZNAME:Europe/Athens EET
END:STANDARD
BEGIN:STANDARD
DTSTART:20241027T030000
RDATE:20250330T040000
TZOFFSETFROM:+0300
TZOFFSETTO:+0200
TZNAME:Europe/Athens EET
END:STANDARD
BEGIN:STANDARD
DTSTART:20251026T030000
RDATE:20260329T040000
TZOFFSETFROM:+0300
TZOFFSETTO:+0200
TZNAME:Europe/Athens EET
END:STANDARD
BEGIN:STANDARD
DTSTART:20261025T030000
RDATE:20270328T040000
TZOFFSETFROM:+0300
TZOFFSETTO:+0200
TZNAME:Europe/Athens EET
END:STANDARD
BEGIN:STANDARD
DTSTART:20271031T030000
RDATE:20280326T040000
TZOFFSETFROM:+0300
TZOFFSETTO:+0200
TZNAME:Europe/Athens EET
END:STANDARD
BEGIN:STANDARD
DTSTART:20281029T030000
RDATE:20290325T040000
TZOFFSETFROM:+0300
TZOFFSETTO:+0200
TZNAME:Europe/Athens EET
END:STANDARD
BEGIN:STANDARD
DTSTART:20291028T030000
RDATE:20300331T040000
TZOFFSETFROM:+0300
TZOFFSETTO:+0200
TZNAME:Europe/Athens EET
END:STANDARD
BEGIN:STANDARD
DTSTART:20301027T030000
RDATE:20310330T040000
TZOFFSETFROM:+0300
TZOFFSETTO:+0200
TZNAME:Europe/Athens EET
END:STANDARD
BEGIN:DAYLIGHT
DTSTART:20200329T040000
RDATE:20201025T030000
TZOFFSETFROM:+0200
TZOFFSETTO:+0300
TZNAME:Europe/Athens EEST
END:DAYLIGHT
BEGIN:DAYLIGHT
DTSTART:20210328T040000
RDATE:20211031T030000
TZOFFSETFROM:+0200
TZOFFSETTO:+0300
TZNAME:Europe/Athens EEST
END:DAYLIGHT
BEGIN:DAYLIGHT
DTSTART:20220327T040000
RDATE:20221030T030000
TZOFFSETFROM:+0200
TZOFFSETTO:+0300
TZNAME:Europe/Athens EEST
END:DAYLIGHT
BEGIN:DAYLIGHT
DTSTART:20230326T040000
RDATE:20231029T030000
TZOFFSETFROM:+0200
TZOFFSETTO:+0300
TZNAME:Europe/Athens EEST
END:DAYLIGHT
BEGIN:DAYLIGHT
DTSTART:20240331T040000
RDATE:20241027T030000
TZOFFSETFROM:+0200
TZOFFSETTO:+0300
TZNAME:Europe/Athens EEST
END:DAYLIGHT
BEGIN:DAYLIGHT
DTSTART:20250330T040000
RDATE:20251026T030000
TZOFFSETFROM:+0200
TZOFFSETTO:+0300
TZNAME:Europe/Athens EEST
END:DAYLIGHT
BEGIN:DAYLIGHT
DTSTART:20260329T040000
RDATE:20261025T030000
TZOFFSETFROM:+0200
TZOFFSETTO:+0300
TZNAME:Europe/Athens EEST
END:DAYLIGHT
BEGIN:DAYLIGHT
DTSTART:20270328T040000
RDATE:20271031T030000
TZOFFSETFROM:+0200
TZOFFSETTO:+0300
TZNAME:Europe/Athens EEST
END:DAYLIGHT
BEGIN:DAYLIGHT
DTSTART:20280326T040000
RDATE:20281029T030000
TZOFFSETFROM:+0200
TZOFFSETTO:+0300
TZNAME:Europe/Athens EEST
END:DAYLIGHT
BEGIN:DAYLIGHT
DTSTART:20290325T040000
RDATE:20291028T030000
TZOFFSETFROM:+0200
TZOFFSETTO:+0300
TZNAME:Europe/Athens EEST
END:DAYLIGHT
BEGIN:DAYLIGHT
DTSTART:20300331T040000
RDATE:20301027T030000
TZOFFSETFROM:+0200
TZOFFSETTO:+0300
TZNAME:Europe/Athens EEST
END:DAYLIGHT
END:VTIMEZONE
BEGIN:VEVENT
UID:d7071b543fc71d854f74e6f2177af0e4
CATEGORIES:ΡΗΜΑΤΑ ΖΩΗΣ
SUMMARY:25 ΜΑΡΤΙΟΥ Ο ΕΥΑΓΓΕΛΙΣΜΟΣ ΤΗΣ ΥΠΕΡΑΓΙΑΣ ΔΕΣΠΟΙΝΗΣ ΗΜΩΝ ΘΕΟΤΟΚΟΥ ΚΑΙ ΑΕΙΠΑΡΘΕΝΟΥ ΜΑΡΙΑΣ
DESCRIPTION;ENCODING=QUOTED-PRINTABLE:25 &Mu;&Alpha;&Rho;&Tau;&Iota;&Omicron;&Upsilon; &Omicron; &Epsilon;&Upsilo
 n;&Alpha;&Gamma;&Gamma;&Epsilon;&Lambda;&Iota;&Sigma;&Mu;&Omicron;&Sigma; &
 Tau;&Eta;&Sigma; &Upsilon;&Pi;&Epsilon;&Rho;&Alpha;&Gamma;&Iota;&Alpha;&Sig
 ma; &Delta;&Epsilon;&Sigma;&Pi;&Omicron;&Iota;&Nu;&Eta;&Sigma; &Eta;&Mu;&Om
 ega;&Nu; &Theta;&Epsilon;&Omicron;&Tau;&Omicron;&Kappa;&Omicron;&Upsilon; &
 Kappa;&Alpha;&Iota; &Alpha;&Epsilon;&Iota;&Pi;&Alpha;&Rho;&Theta;&Epsilon;&
 Nu;&Omicron;&Upsilon; &Mu;&Alpha;&Rho;&Iota;&Alpha;&Sigma;\n25/03/2021\n&Ep
 silon;&Beta;&Delta;&Omicron;&Mu;&Alpha;&Delta;&Iota;&Alpha;&Iota;&Omicron; 
 &Delta;&Epsilon;&Lambda;&Tau;&Iota;&Omicron; &Beta;&Iota;&Beta;&Lambda;&Iot
 a;&Kappa;&Omicron;&Upsilon; &Lambda;&Omicron;&Gamma;&Omicron;&Upsilon; &Tau
 ;&Omicron;&Upsilon; &Omicron;&Rho;&Theta;&Omicron;&Delta;&Omicron;&Xi;&Omic
 ron;&Upsilon; &Epsilon;&Kappa;&Kappa;&Lambda;&Eta;&Sigma;&Iota;&Alpha;&Sigm
 a;&Tau;&Iota;&Kappa;&Omicron;&Upsilon; &Iota;&Delta;&Rho;&Upsilon;&Mu;&Alph
 a;&Tau;&Omicron;&Sigma;&nbsp;&Pi;&Alpha;&Iota;&Delta;&Alpha;&Gamma;&Omega;&
 Gamma;&Iota;&Kappa;&Omega;&Nu; &amp; &Kappa;&Omicron;&Iota;&Nu;&Omega;&Nu;&
 Iota;&Kappa;&Omega;&Nu; &Epsilon;&Phi;&Alpha;&Rho;&Mu;&Omicron;&Gamma;&Omeg
 a;&Nu; &Iota;&Epsilon;&Rho;&Alpha;&Sigma; &Mu;&Eta;&Tau;&Rho;&Omicron;&Pi;&
 Omicron;&Lambda;&Epsilon;&Omega;&Sigma; &Kappa;&Alpha;&Sigma;&Sigma;&Alpha;
 &Nu;&Delta;&Rho;&Epsilon;&Iota;&Alpha;&Sigma;\n &laquo;&Omicron; &Epsilon;&
 Upsilon;&Alpha;&Gamma;&Gamma;&Epsilon;&Lambda;&Iota;&Sigma;&Tau;&Eta;&Sigma
 ; &Mu;&Alpha;&Rho;&Kappa;&Omicron;&Sigma;&raquo;\n Ἐ&pi;&iota;&mu;&epsilon;
 &lambda;&eta;&tau;ή&sigmaf; ὕ&lambda;&eta;&sigmaf;: \n &Pi;&rho;&omega;&tau
 ;&omicron;&pi;&rho;&epsilon;&sigma;&beta;ύ&tau;&epsilon;&rho;&omicron;&sigm
 af; &Kappa;&omega;&nu;. &Pi;&lambda;&epsilon;&upsilon;&rho;ά&kappa;&eta;&si
 gmaf;\n T&Theta; 60060, &Tau;&Kappa; 57001 &Theta;&Epsilon;&Rho;&Mu;&Eta; &
 Theta;&Epsilon;&Sigma;&Sigma;&Alpha;&Lambda;&Omicron;&Nu;&Iota;&Kappa;&Eta;
 &Sigma;\n &Tau;&eta;&lambda;. 2310 462 744 Fax: 2310 463 455&nbsp;\n&Mu;&pi
 ;&omicron;&rho;&epsilon;ί&tau;&epsilon; &nu;&alpha; &kappa;&alpha;&tau;&eps
 ilon;&beta;ά&sigma;&epsilon;&tau;&epsilon; &tau;&omicron; "25 &Mu;&Alpha;&R
 ho;&Tau;&Iota;&Omicron;&Upsilon; &Omicron; &Epsilon;&Upsilon;&Alpha;&Gamma;
 &Gamma;&Epsilon;&Lambda;&Iota;&Sigma;&Mu;&Omicron;&Sigma; &Tau;&Eta;&Sigma;
  &Upsilon;&Pi;&Epsilon;&Rho;&Alpha;&Gamma;&Iota;&Alpha;&Sigma; &Delta;&Epsi
 lon;&Sigma;&Pi;&Omicron;&Iota;&Nu;&Eta;&Sigma; &Eta;&Mu;&Omega;&Nu; &Theta;
 &Epsilon;&Omicron;&Tau;&Omicron;&Kappa;&Omicron;&Upsilon; &Kappa;&Alpha;&Io
 ta; &Alpha;&Epsilon;&Iota;&Pi;&Alpha;&Rho;&Theta;&Epsilon;&Nu;&Omicron;&Ups
 ilon; &Mu;&Alpha;&Rho;&Iota;&Alpha;&Sigma;" &sigma;&epsilon; &mu;&omicron;&
 rho;&phi;ή pdf &epsilon;&delta;ώ...\n\n\n\n&Sigma;&alpha;&sigmaf; &epsilon;
 &upsilon;&chi;ό&mu;&alpha;&sigma;&tau;&epsilon; &kappa;&alpha;&lambda;ή &al
 pha;&nu;ά&gamma;&nu;&omega;&sigma;&eta; &kappa;&alpha;&iota; &sigma;&alpha;
 &sigmaf; &pi;&epsilon;&rho;&iota;&mu;έ&nu;&omicron;&upsilon;&mu;&epsilon; &
 kappa;ά&theta;&epsilon; &Kappa;&upsilon;&rho;&iota;&alpha;&kappa;ή &mu;&eps
 ilon;&tau;ά &tau;&eta;&nu; &lambda;&epsilon;&iota;&tau;&omicron;&upsilon;&r
 ho;&gamma;ί&alpha; &nu;&alpha; &pi;&iota;&omicron;ύ&mu;&epsilon; &kappa;&al
 pha;&phi;έ &kappa;&alpha;&iota; &nu;&alpha; &gamma;&nu;&omega;&rho;&iota;&s
 igma;&tau;&omicron;ύ&mu;&epsilon;.\n
DTSTAMP:20260421T015047Z
DTSTART;TZID=Europe/Athens;VALUE=DATE:20210325
DTEND;TZID=Europe/Athens;VALUE=DATE:20210326
SEQUENCE:0
TRANSP:OPAQUE
END:VEVENT
END:VCALENDAR