BEGIN:VCALENDAR
VERSION:2.0
PRODID:-//jEvents 2.0 for Joomla//EN
CALSCALE:GREGORIAN
METHOD:PUBLISH
BEGIN:VTIMEZONE
TZID:Europe/Athens
BEGIN:STANDARD
DTSTART:20200327T000000
RDATE:20200329T040000
TZOFFSETFROM:+0300
TZOFFSETTO:+0200
TZNAME:Europe/Athens EET
END:STANDARD
BEGIN:STANDARD
DTSTART:20201025T030000
RDATE:20210328T040000
TZOFFSETFROM:+0300
TZOFFSETTO:+0200
TZNAME:Europe/Athens EET
END:STANDARD
BEGIN:STANDARD
DTSTART:20211031T030000
RDATE:20220327T040000
TZOFFSETFROM:+0300
TZOFFSETTO:+0200
TZNAME:Europe/Athens EET
END:STANDARD
BEGIN:STANDARD
DTSTART:20221030T030000
RDATE:20230326T040000
TZOFFSETFROM:+0300
TZOFFSETTO:+0200
TZNAME:Europe/Athens EET
END:STANDARD
BEGIN:STANDARD
DTSTART:20231029T030000
RDATE:20240331T040000
TZOFFSETFROM:+0300
TZOFFSETTO:+0200
TZNAME:Europe/Athens EET
END:STANDARD
BEGIN:STANDARD
DTSTART:20241027T030000
RDATE:20250330T040000
TZOFFSETFROM:+0300
TZOFFSETTO:+0200
TZNAME:Europe/Athens EET
END:STANDARD
BEGIN:STANDARD
DTSTART:20251026T030000
RDATE:20260329T040000
TZOFFSETFROM:+0300
TZOFFSETTO:+0200
TZNAME:Europe/Athens EET
END:STANDARD
BEGIN:STANDARD
DTSTART:20261025T030000
RDATE:20270328T040000
TZOFFSETFROM:+0300
TZOFFSETTO:+0200
TZNAME:Europe/Athens EET
END:STANDARD
BEGIN:STANDARD
DTSTART:20271031T030000
RDATE:20280326T040000
TZOFFSETFROM:+0300
TZOFFSETTO:+0200
TZNAME:Europe/Athens EET
END:STANDARD
BEGIN:STANDARD
DTSTART:20281029T030000
RDATE:20290325T040000
TZOFFSETFROM:+0300
TZOFFSETTO:+0200
TZNAME:Europe/Athens EET
END:STANDARD
BEGIN:STANDARD
DTSTART:20291028T030000
RDATE:20300331T040000
TZOFFSETFROM:+0300
TZOFFSETTO:+0200
TZNAME:Europe/Athens EET
END:STANDARD
BEGIN:STANDARD
DTSTART:20301027T030000
RDATE:20310330T040000
TZOFFSETFROM:+0300
TZOFFSETTO:+0200
TZNAME:Europe/Athens EET
END:STANDARD
BEGIN:DAYLIGHT
DTSTART:20200329T040000
RDATE:20201025T030000
TZOFFSETFROM:+0200
TZOFFSETTO:+0300
TZNAME:Europe/Athens EEST
END:DAYLIGHT
BEGIN:DAYLIGHT
DTSTART:20210328T040000
RDATE:20211031T030000
TZOFFSETFROM:+0200
TZOFFSETTO:+0300
TZNAME:Europe/Athens EEST
END:DAYLIGHT
BEGIN:DAYLIGHT
DTSTART:20220327T040000
RDATE:20221030T030000
TZOFFSETFROM:+0200
TZOFFSETTO:+0300
TZNAME:Europe/Athens EEST
END:DAYLIGHT
BEGIN:DAYLIGHT
DTSTART:20230326T040000
RDATE:20231029T030000
TZOFFSETFROM:+0200
TZOFFSETTO:+0300
TZNAME:Europe/Athens EEST
END:DAYLIGHT
BEGIN:DAYLIGHT
DTSTART:20240331T040000
RDATE:20241027T030000
TZOFFSETFROM:+0200
TZOFFSETTO:+0300
TZNAME:Europe/Athens EEST
END:DAYLIGHT
BEGIN:DAYLIGHT
DTSTART:20250330T040000
RDATE:20251026T030000
TZOFFSETFROM:+0200
TZOFFSETTO:+0300
TZNAME:Europe/Athens EEST
END:DAYLIGHT
BEGIN:DAYLIGHT
DTSTART:20260329T040000
RDATE:20261025T030000
TZOFFSETFROM:+0200
TZOFFSETTO:+0300
TZNAME:Europe/Athens EEST
END:DAYLIGHT
BEGIN:DAYLIGHT
DTSTART:20270328T040000
RDATE:20271031T030000
TZOFFSETFROM:+0200
TZOFFSETTO:+0300
TZNAME:Europe/Athens EEST
END:DAYLIGHT
BEGIN:DAYLIGHT
DTSTART:20280326T040000
RDATE:20281029T030000
TZOFFSETFROM:+0200
TZOFFSETTO:+0300
TZNAME:Europe/Athens EEST
END:DAYLIGHT
BEGIN:DAYLIGHT
DTSTART:20290325T040000
RDATE:20291028T030000
TZOFFSETFROM:+0200
TZOFFSETTO:+0300
TZNAME:Europe/Athens EEST
END:DAYLIGHT
BEGIN:DAYLIGHT
DTSTART:20300331T040000
RDATE:20301027T030000
TZOFFSETFROM:+0200
TZOFFSETTO:+0300
TZNAME:Europe/Athens EEST
END:DAYLIGHT
END:VTIMEZONE
BEGIN:VEVENT
UID:910d55cdc6ec9d06186cd0a966b19b6b
CATEGORIES:ΡΗΜΑΤΑ ΖΩΗΣ
SUMMARY:ΤΡΙΩΔΙΟΝ Β' ΚΥΡΙΑΚΗ ΤΩΝ ΝΗΣΤΕΙΩΝ
DESCRIPTION;ENCODING=QUOTED-PRINTABLE:&Tau;&Rho;&Iota;&Omega;&Delta;&Iota;&Omicron;&Nu; &Beta;' &Kappa;&Upsilon;&
 Rho;&Iota;&Alpha;&Kappa;&Eta; &Tau;&Omega;&Nu; &Nu;&Eta;&Sigma;&Tau;&Epsilo
 n;&Iota;&Omega;&Nu;\n29/03/2021\n&Epsilon;&Beta;&Delta;&Omicron;&Mu;&Alpha;
 &Delta;&Iota;&Alpha;&Iota;&Omicron; &Delta;&Epsilon;&Lambda;&Tau;&Iota;&Omi
 cron; &Beta;&Iota;&Beta;&Lambda;&Iota;&Kappa;&Omicron;&Upsilon; &Lambda;&Om
 icron;&Gamma;&Omicron;&Upsilon; &Tau;&Omicron;&Upsilon; &Omicron;&Rho;&Thet
 a;&Omicron;&Delta;&Omicron;&Xi;&Omicron;&Upsilon; &Epsilon;&Kappa;&Kappa;&L
 ambda;&Eta;&Sigma;&Iota;&Alpha;&Sigma;&Tau;&Iota;&Kappa;&Omicron;&Upsilon; 
 &Iota;&Delta;&Rho;&Upsilon;&Mu;&Alpha;&Tau;&Omicron;&Sigma;&nbsp;&Pi;&Alpha
 ;&Iota;&Delta;&Alpha;&Gamma;&Omega;&Gamma;&Iota;&Kappa;&Omega;&Nu; &amp; &K
 appa;&Omicron;&Iota;&Nu;&Omega;&Nu;&Iota;&Kappa;&Omega;&Nu; &Epsilon;&Phi;&
 Alpha;&Rho;&Mu;&Omicron;&Gamma;&Omega;&Nu; &Iota;&Epsilon;&Rho;&Alpha;&Sigm
 a; &Mu;&Eta;&Tau;&Rho;&Omicron;&Pi;&Omicron;&Lambda;&Epsilon;&Omega;&Sigma;
  &Kappa;&Alpha;&Sigma;&Sigma;&Alpha;&Nu;&Delta;&Rho;&Epsilon;&Iota;&Alpha;&
 Sigma;\n &laquo;&Omicron; &Epsilon;&Upsilon;&Alpha;&Gamma;&Gamma;&Epsilon;&
 Lambda;&Iota;&Sigma;&Tau;&Eta;&Sigma; &Mu;&Alpha;&Rho;&Kappa;&Omicron;&Sigm
 a;&raquo;\n Ἐ&pi;&iota;&mu;&epsilon;&lambda;&eta;&tau;ή&sigmaf; ὕ&lambda;&e
 ta;&sigmaf;: \n &Pi;&rho;&omega;&tau;&omicron;&pi;&rho;&epsilon;&sigma;&bet
 a;ύ&tau;&epsilon;&rho;&omicron;&sigmaf; &Kappa;&omega;&nu;. &Pi;&lambda;&ep
 silon;&upsilon;&rho;ά&kappa;&eta;&sigmaf;\n T&Theta; 60060, &Tau;&Kappa; 57
 001 &Theta;&Epsilon;&Rho;&Mu;&Eta; &Theta;&Epsilon;&Sigma;&Sigma;&Alpha;&La
 mbda;&Omicron;&Nu;&Iota;&Kappa;&Eta;&Sigma;\n &Tau;&eta;&lambda;. 2310 462 
 744 Fax: 2310 463 455&nbsp;\n&Mu;&pi;&omicron;&rho;&epsilon;ί&tau;&epsilon;
  &nu;&alpha; &kappa;&alpha;&tau;&epsilon;&beta;ά&sigma;&epsilon;&tau;&epsil
 on; &tau;&omicron; "&Tau;&Rho;&Iota;&Omega;&Delta;&Iota;&Omicron;&Nu; &Beta
 ;' &Kappa;&Upsilon;&Rho;&Iota;&Alpha;&Kappa;&Eta; &Tau;&Omega;&Nu; &Nu;&Eta
 ;&Sigma;&Tau;&Epsilon;&Iota;&Omega;&Nu;" &sigma;&epsilon; &mu;&omicron;&rho
 ;&phi;ή pdf &epsilon;&delta;ώ...\n\n\n\n&Sigma;&alpha;&sigmaf; &epsilon;&up
 silon;&chi;ό&mu;&alpha;&sigma;&tau;&epsilon; &kappa;&alpha;&lambda;ή &alpha
 ;&nu;ά&gamma;&nu;&omega;&sigma;&eta; &kappa;&alpha;&iota; &sigma;&alpha;&si
 gmaf; &pi;&epsilon;&rho;&iota;&mu;έ&nu;&omicron;&upsilon;&mu;&epsilon; &kap
 pa;ά&theta;&epsilon; &Kappa;&upsilon;&rho;&iota;&alpha;&kappa;ή &mu;&epsilo
 n;&tau;ά &tau;&eta;&nu; &lambda;&epsilon;&iota;&tau;&omicron;&upsilon;&rho;
 &gamma;ί&alpha; &nu;&alpha; &pi;&iota;&omicron;ύ&mu;&epsilon; &kappa;&alpha
 ;&phi;έ &kappa;&alpha;&iota; &nu;&alpha; &gamma;&nu;&omega;&rho;&iota;&sigm
 a;&tau;&omicron;ύ&mu;&epsilon;.\n
DTSTAMP:20260421T015046Z
DTSTART;TZID=Europe/Athens;VALUE=DATE:20210328
DTEND;TZID=Europe/Athens;VALUE=DATE:20210329
SEQUENCE:0
TRANSP:OPAQUE
END:VEVENT
END:VCALENDAR