BEGIN:VCALENDAR
VERSION:2.0
PRODID:-//jEvents 2.0 for Joomla//EN
CALSCALE:GREGORIAN
METHOD:PUBLISH
BEGIN:VTIMEZONE
TZID:Europe/Athens
BEGIN:STANDARD
DTSTART:20201025T030000
RDATE:20210328T040000
TZOFFSETFROM:+0300
TZOFFSETTO:+0200
TZNAME:Europe/Athens EET
END:STANDARD
BEGIN:STANDARD
DTSTART:20211031T030000
RDATE:20220327T040000
TZOFFSETFROM:+0300
TZOFFSETTO:+0200
TZNAME:Europe/Athens EET
END:STANDARD
BEGIN:STANDARD
DTSTART:20221030T030000
RDATE:20230326T040000
TZOFFSETFROM:+0300
TZOFFSETTO:+0200
TZNAME:Europe/Athens EET
END:STANDARD
BEGIN:STANDARD
DTSTART:20231029T030000
RDATE:20240331T040000
TZOFFSETFROM:+0300
TZOFFSETTO:+0200
TZNAME:Europe/Athens EET
END:STANDARD
BEGIN:STANDARD
DTSTART:20241027T030000
RDATE:20250330T040000
TZOFFSETFROM:+0300
TZOFFSETTO:+0200
TZNAME:Europe/Athens EET
END:STANDARD
BEGIN:STANDARD
DTSTART:20251026T030000
RDATE:20260329T040000
TZOFFSETFROM:+0300
TZOFFSETTO:+0200
TZNAME:Europe/Athens EET
END:STANDARD
BEGIN:STANDARD
DTSTART:20261025T030000
RDATE:20270328T040000
TZOFFSETFROM:+0300
TZOFFSETTO:+0200
TZNAME:Europe/Athens EET
END:STANDARD
BEGIN:STANDARD
DTSTART:20271031T030000
RDATE:20280326T040000
TZOFFSETFROM:+0300
TZOFFSETTO:+0200
TZNAME:Europe/Athens EET
END:STANDARD
BEGIN:STANDARD
DTSTART:20281029T030000
RDATE:20290325T040000
TZOFFSETFROM:+0300
TZOFFSETTO:+0200
TZNAME:Europe/Athens EET
END:STANDARD
BEGIN:STANDARD
DTSTART:20291028T030000
RDATE:20300331T040000
TZOFFSETFROM:+0300
TZOFFSETTO:+0200
TZNAME:Europe/Athens EET
END:STANDARD
BEGIN:STANDARD
DTSTART:20301027T030000
RDATE:20310330T040000
TZOFFSETFROM:+0300
TZOFFSETTO:+0200
TZNAME:Europe/Athens EET
END:STANDARD
BEGIN:DAYLIGHT
DTSTART:20200428T000000
RDATE:20201025T030000
TZOFFSETFROM:+0200
TZOFFSETTO:+0300
TZNAME:Europe/Athens EEST
END:DAYLIGHT
BEGIN:DAYLIGHT
DTSTART:20210328T040000
RDATE:20211031T030000
TZOFFSETFROM:+0200
TZOFFSETTO:+0300
TZNAME:Europe/Athens EEST
END:DAYLIGHT
BEGIN:DAYLIGHT
DTSTART:20220327T040000
RDATE:20221030T030000
TZOFFSETFROM:+0200
TZOFFSETTO:+0300
TZNAME:Europe/Athens EEST
END:DAYLIGHT
BEGIN:DAYLIGHT
DTSTART:20230326T040000
RDATE:20231029T030000
TZOFFSETFROM:+0200
TZOFFSETTO:+0300
TZNAME:Europe/Athens EEST
END:DAYLIGHT
BEGIN:DAYLIGHT
DTSTART:20240331T040000
RDATE:20241027T030000
TZOFFSETFROM:+0200
TZOFFSETTO:+0300
TZNAME:Europe/Athens EEST
END:DAYLIGHT
BEGIN:DAYLIGHT
DTSTART:20250330T040000
RDATE:20251026T030000
TZOFFSETFROM:+0200
TZOFFSETTO:+0300
TZNAME:Europe/Athens EEST
END:DAYLIGHT
BEGIN:DAYLIGHT
DTSTART:20260329T040000
RDATE:20261025T030000
TZOFFSETFROM:+0200
TZOFFSETTO:+0300
TZNAME:Europe/Athens EEST
END:DAYLIGHT
BEGIN:DAYLIGHT
DTSTART:20270328T040000
RDATE:20271031T030000
TZOFFSETFROM:+0200
TZOFFSETTO:+0300
TZNAME:Europe/Athens EEST
END:DAYLIGHT
BEGIN:DAYLIGHT
DTSTART:20280326T040000
RDATE:20281029T030000
TZOFFSETFROM:+0200
TZOFFSETTO:+0300
TZNAME:Europe/Athens EEST
END:DAYLIGHT
BEGIN:DAYLIGHT
DTSTART:20290325T040000
RDATE:20291028T030000
TZOFFSETFROM:+0200
TZOFFSETTO:+0300
TZNAME:Europe/Athens EEST
END:DAYLIGHT
BEGIN:DAYLIGHT
DTSTART:20300331T040000
RDATE:20301027T030000
TZOFFSETFROM:+0200
TZOFFSETTO:+0300
TZNAME:Europe/Athens EEST
END:DAYLIGHT
END:VTIMEZONE
BEGIN:VEVENT
UID:b2bbe3389c4e3086e93af1459bfa0e08
CATEGORIES:ΡΗΜΑΤΑ ΖΩΗΣ
SUMMARY:ΡΗΜΑΤΑ ΖΩΗΣ Η ΕΟΡΤΗ ΤΟΥ ΠΑΣΧΑ ΜΕΓΑΛΗ ΠΕΜΠΤΗ ΜΕΓΑΛΗ ΠΑΡΑΣΚΕΥΗ ΜΕΓΑ ΣΑΒΒΑΤΟ ΚΥΡΙΑΚΗ ΤΟΥ ΠΑΣΧΑ
DESCRIPTION;ENCODING=QUOTED-PRINTABLE:&Rho;&Eta;&Mu;&Alpha;&Tau;&Alpha; &Zeta;&Omega;&Eta;&Sigma; &Eta; &Epsilon;
 &Omicron;&Rho;&Tau;&Eta; &Tau;&Omicron;&Upsilon; &Pi;&Alpha;&Sigma;&Chi;&Al
 pha; &Mu;&Epsilon;&Gamma;&Alpha;&Lambda;&Eta; &Pi;&Epsilon;&Mu;&Pi;&Tau;&Et
 a; &Mu;&Epsilon;&Gamma;&Alpha;&Lambda;&Eta; &Pi;&Alpha;&Rho;&Alpha;&Sigma;&
 Kappa;&Epsilon;&Upsilon;&Eta; &Mu;&Epsilon;&Gamma;&Alpha; &Sigma;&Alpha;&Be
 ta;&Beta;&Alpha;&Tau;&Omicron; &Kappa;&Upsilon;&Rho;&Iota;&Alpha;&Kappa;&Et
 a; &Tau;&Omicron;&Upsilon; &Pi;&Alpha;&Sigma;&Chi;&Alpha;\n29/04/2021-02/05
 /2021\n&Epsilon;&Beta;&Delta;&Omicron;&Mu;&Alpha;&Delta;&Iota;&Alpha;&Iota;
 &Omicron; &Delta;&Epsilon;&Lambda;&Tau;&Iota;&Omicron; &Beta;&Iota;&Beta;&L
 ambda;&Iota;&Kappa;&Omicron;&Upsilon; &Lambda;&Omicron;&Gamma;&Omicron;&Ups
 ilon; &Tau;&Omicron;&Upsilon; &Omicron;&Rho;&Theta;&Omicron;&Delta;&Omicron
 ;&Xi;&Omicron;&Upsilon; &Epsilon;&Kappa;&Kappa;&Lambda;&Eta;&Sigma;&Iota;&A
 lpha;&Sigma;&Tau;&Iota;&Kappa;&Omicron;&Upsilon; &Iota;&Delta;&Rho;&Upsilon
 ;&Mu;&Alpha;&Tau;&Omicron;&Sigma;&nbsp;&Pi;&Alpha;&Iota;&Delta;&Alpha;&Gamm
 a;&Omega;&Gamma;&Iota;&Kappa;&Omega;&Nu; &amp; &Kappa;&Omicron;&Iota;&Nu;&O
 mega;&Nu;&Iota;&Kappa;&Omega;&Nu; &Epsilon;&Phi;&Alpha;&Rho;&Mu;&Omicron;&G
 amma;&Omega;&Nu; &Iota;&Epsilon;&Rho;&Alpha;&Sigma; &Mu;&Eta;&Tau;&Rho;&Omi
 cron;&Pi;&Omicron;&Lambda;&Epsilon;&Omega;&Sigma; &Kappa;&Alpha;&Sigma;&Sig
 ma;&Alpha;&Nu;&Delta;&Rho;&Epsilon;&Iota;&Alpha;&Sigma;\n &laquo;&Omicron; 
 &Epsilon;&Upsilon;&Alpha;&Gamma;&Gamma;&Epsilon;&Lambda;&Iota;&Sigma;&Tau;&
 Eta;&Sigma; &Mu;&Alpha;&Rho;&Kappa;&Omicron;&Sigma;&raquo;\n Ἐ&pi;&iota;&mu
 ;&epsilon;&lambda;&eta;&tau;ή&sigmaf; ὕ&lambda;&eta;&sigmaf;: \n &Pi;&rho;&
 omega;&tau;&omicron;&pi;&rho;&epsilon;&sigma;&beta;ύ&tau;&epsilon;&rho;&omi
 cron;&sigmaf; &Kappa;&omega;&nu;. &Pi;&lambda;&epsilon;&upsilon;&rho;ά&kapp
 a;&eta;&sigmaf;\n T&Theta; 60060, &Tau;&Kappa; 57001 &Theta;&Epsilon;&Rho;&
 Mu;&Eta; &Theta;&Epsilon;&Sigma;&Sigma;&Alpha;&Lambda;&Omicron;&Nu;&Iota;&K
 appa;&Eta;&Sigma;\n &Tau;&eta;&lambda;. 2310 462 744 Fax: 2310 463 455&nbsp
 ;\n&Mu;&pi;&omicron;&rho;&epsilon;ί&tau;&epsilon; &nu;&alpha; &kappa;&alpha
 ;&tau;&epsilon;&beta;ά&sigma;&epsilon;&tau;&epsilon; &tau;&omicron; "&Rho;&
 Eta;&Mu;&Alpha;&Tau;&Alpha; &Zeta;&Omega;&Eta;&Sigma; &Eta; &Epsilon;&Omicr
 on;&Rho;&Tau;&Eta; &Tau;&Omicron;&Upsilon; &Pi;&Alpha;&Sigma;&Chi;&Alpha; &
 Mu;&Epsilon;&Gamma;&Alpha;&Lambda;&Eta; &Pi;&Epsilon;&Mu;&Pi;&Tau;&Eta; &Mu
 ;&Epsilon;&Gamma;&Alpha;&Lambda;&Eta; &Pi;&Alpha;&Rho;&Alpha;&Sigma;&Kappa;
 &Epsilon;&Upsilon;&Eta; &Mu;&Epsilon;&Gamma;&Alpha; &Sigma;&Alpha;&Beta;&Be
 ta;&Alpha;&Tau;&Omicron; &Kappa;&Upsilon;&Rho;&Iota;&Alpha;&Kappa;&Eta; &Ta
 u;&Omicron;&Upsilon; &Pi;&Alpha;&Sigma;&Chi;&Alpha;" &sigma;&epsilon; &mu;&
 omicron;&rho;&phi;ή pdf &epsilon;&delta;ώ...\n\n\n\n&Sigma;&alpha;&sigmaf; 
 &epsilon;&upsilon;&chi;ό&mu;&alpha;&sigma;&tau;&epsilon; &kappa;&alpha;&lam
 bda;ή &alpha;&nu;ά&gamma;&nu;&omega;&sigma;&eta; &kappa;&alpha;&iota; &sigm
 a;&alpha;&sigmaf; &pi;&epsilon;&rho;&iota;&mu;έ&nu;&omicron;&upsilon;&mu;&e
 psilon; &kappa;ά&theta;&epsilon; &Kappa;&upsilon;&rho;&iota;&alpha;&kappa;ή
  &mu;&epsilon;&tau;ά &tau;&eta;&nu; &lambda;&epsilon;&iota;&tau;&omicron;&u
 psilon;&rho;&gamma;ί&alpha; &nu;&alpha; &pi;&iota;&omicron;ύ&mu;&epsilon; &
 kappa;&alpha;&phi;έ &kappa;&alpha;&iota; &nu;&alpha; &gamma;&nu;&omega;&rho
 ;&iota;&sigma;&tau;&omicron;ύ&mu;&epsilon;.\n
DTSTAMP:20260420T163943Z
DTSTART;TZID=Europe/Athens;VALUE=DATE:20210429
DTEND;TZID=Europe/Athens;VALUE=DATE:20210504
SEQUENCE:0
TRANSP:OPAQUE
END:VEVENT
END:VCALENDAR