BEGIN:VCALENDAR
VERSION:2.0
PRODID:-//jEvents 2.0 for Joomla//EN
CALSCALE:GREGORIAN
METHOD:PUBLISH
BEGIN:VTIMEZONE
TZID:Europe/Athens
BEGIN:STANDARD
DTSTART:20211031T030000
RDATE:20220327T040000
TZOFFSETFROM:+0300
TZOFFSETTO:+0200
TZNAME:Europe/Athens EET
END:STANDARD
BEGIN:STANDARD
DTSTART:20221030T030000
RDATE:20230326T040000
TZOFFSETFROM:+0300
TZOFFSETTO:+0200
TZNAME:Europe/Athens EET
END:STANDARD
BEGIN:STANDARD
DTSTART:20231029T030000
RDATE:20240331T040000
TZOFFSETFROM:+0300
TZOFFSETTO:+0200
TZNAME:Europe/Athens EET
END:STANDARD
BEGIN:STANDARD
DTSTART:20241027T030000
RDATE:20250330T040000
TZOFFSETFROM:+0300
TZOFFSETTO:+0200
TZNAME:Europe/Athens EET
END:STANDARD
BEGIN:STANDARD
DTSTART:20251026T030000
RDATE:20260329T040000
TZOFFSETFROM:+0300
TZOFFSETTO:+0200
TZNAME:Europe/Athens EET
END:STANDARD
BEGIN:STANDARD
DTSTART:20261025T030000
RDATE:20270328T040000
TZOFFSETFROM:+0300
TZOFFSETTO:+0200
TZNAME:Europe/Athens EET
END:STANDARD
BEGIN:STANDARD
DTSTART:20271031T030000
RDATE:20280326T040000
TZOFFSETFROM:+0300
TZOFFSETTO:+0200
TZNAME:Europe/Athens EET
END:STANDARD
BEGIN:STANDARD
DTSTART:20281029T030000
RDATE:20290325T040000
TZOFFSETFROM:+0300
TZOFFSETTO:+0200
TZNAME:Europe/Athens EET
END:STANDARD
BEGIN:STANDARD
DTSTART:20291028T030000
RDATE:20300331T040000
TZOFFSETFROM:+0300
TZOFFSETTO:+0200
TZNAME:Europe/Athens EET
END:STANDARD
BEGIN:STANDARD
DTSTART:20301027T030000
RDATE:20310330T040000
TZOFFSETFROM:+0300
TZOFFSETTO:+0200
TZNAME:Europe/Athens EET
END:STANDARD
BEGIN:DAYLIGHT
DTSTART:20210903T000000
RDATE:20211031T030000
TZOFFSETFROM:+0200
TZOFFSETTO:+0300
TZNAME:Europe/Athens EEST
END:DAYLIGHT
BEGIN:DAYLIGHT
DTSTART:20220327T040000
RDATE:20221030T030000
TZOFFSETFROM:+0200
TZOFFSETTO:+0300
TZNAME:Europe/Athens EEST
END:DAYLIGHT
BEGIN:DAYLIGHT
DTSTART:20230326T040000
RDATE:20231029T030000
TZOFFSETFROM:+0200
TZOFFSETTO:+0300
TZNAME:Europe/Athens EEST
END:DAYLIGHT
BEGIN:DAYLIGHT
DTSTART:20240331T040000
RDATE:20241027T030000
TZOFFSETFROM:+0200
TZOFFSETTO:+0300
TZNAME:Europe/Athens EEST
END:DAYLIGHT
BEGIN:DAYLIGHT
DTSTART:20250330T040000
RDATE:20251026T030000
TZOFFSETFROM:+0200
TZOFFSETTO:+0300
TZNAME:Europe/Athens EEST
END:DAYLIGHT
BEGIN:DAYLIGHT
DTSTART:20260329T040000
RDATE:20261025T030000
TZOFFSETFROM:+0200
TZOFFSETTO:+0300
TZNAME:Europe/Athens EEST
END:DAYLIGHT
BEGIN:DAYLIGHT
DTSTART:20270328T040000
RDATE:20271031T030000
TZOFFSETFROM:+0200
TZOFFSETTO:+0300
TZNAME:Europe/Athens EEST
END:DAYLIGHT
BEGIN:DAYLIGHT
DTSTART:20280326T040000
RDATE:20281029T030000
TZOFFSETFROM:+0200
TZOFFSETTO:+0300
TZNAME:Europe/Athens EEST
END:DAYLIGHT
BEGIN:DAYLIGHT
DTSTART:20290325T040000
RDATE:20291028T030000
TZOFFSETFROM:+0200
TZOFFSETTO:+0300
TZNAME:Europe/Athens EEST
END:DAYLIGHT
BEGIN:DAYLIGHT
DTSTART:20300331T040000
RDATE:20301027T030000
TZOFFSETFROM:+0200
TZOFFSETTO:+0300
TZNAME:Europe/Athens EEST
END:DAYLIGHT
END:VTIMEZONE
BEGIN:VEVENT
UID:5661e60c121eeda4bcf2682ff0b5101e
CATEGORIES:ΡΗΜΑΤΑ ΖΩΗΣ
SUMMARY:Ρήματα Ζωής ΙB_Ματθαίου
DESCRIPTION;ENCODING=QUOTED-PRINTABLE:&Rho;ή&mu;&alpha;&tau;&alpha; &Zeta;&omega;ή&sigmaf; &Iota;B_&Mu;&alpha;&ta
 u;&theta;&alpha;ί&omicron;&upsilon;\n&Epsilon;&Beta;&Delta;&Omicron;&Mu;&Al
 pha;&Delta;&Iota;&Alpha;&Iota;&Omicron; &Delta;&Epsilon;&Lambda;&Tau;&Iota;
 &Omicron; &Beta;&Iota;&Beta;&Lambda;&Iota;&Kappa;&Omicron;&Upsilon; &Lambda
 ;&Omicron;&Gamma;&Omicron;&Upsilon; &Tau;&Omicron;&Upsilon; &Omicron;&Rho;&
 Theta;&Omicron;&Delta;&Omicron;&Xi;&Omicron;&Upsilon; &Epsilon;&Kappa;&Kapp
 a;&Lambda;&Eta;&Sigma;&Iota;&Alpha;&Sigma;&Tau;&Iota;&Kappa;&Omicron;&Upsil
 on; &Iota;&Delta;&Rho;&Upsilon;&Mu;&Alpha;&Tau;&Omicron;&Sigma;&nbsp;&Pi;&A
 lpha;&Iota;&Delta;&Alpha;&Gamma;&Omega;&Gamma;&Iota;&Kappa;&Omega;&Nu; &amp
 ; &Kappa;&Omicron;&Iota;&Nu;&Omega;&Nu;&Iota;&Kappa;&Omega;&Nu; &Epsilon;&P
 hi;&Alpha;&Rho;&Mu;&Omicron;&Gamma;&Omega;&Nu; &Iota;&Epsilon;&Rho;&Alpha;&
 Sigma; &Mu;&Eta;&Tau;&Rho;&Omicron;&Pi;&Omicron;&Lambda;&Epsilon;&Omega;&Si
 gma; &Kappa;&Alpha;&Sigma;&Sigma;&Alpha;&Nu;&Delta;&Rho;&Epsilon;&Iota;&Alp
 ha;&Sigma;\n &laquo;&Omicron; &Epsilon;&Upsilon;&Alpha;&Gamma;&Gamma;&Epsil
 on;&Lambda;&Iota;&Sigma;&Tau;&Eta;&Sigma; &Mu;&Alpha;&Rho;&Kappa;&Omicron;&
 Sigma;&raquo;\n Ἐ&pi;&iota;&mu;&epsilon;&lambda;&eta;&tau;ή&sigmaf; ὕ&lambd
 a;&eta;&sigmaf;: \n &Pi;&rho;&omega;&tau;&omicron;&pi;&rho;&epsilon;&sigma;
 &beta;ύ&tau;&epsilon;&rho;&omicron;&sigmaf; &Kappa;&omega;&nu;. &Pi;&lambda
 ;&epsilon;&upsilon;&rho;ά&kappa;&eta;&sigmaf;\n T&Theta; 60060, &Tau;&Kappa
 ; 57001 &Theta;&Epsilon;&Rho;&Mu;&Eta; &Theta;&Epsilon;&Sigma;&Sigma;&Alpha
 ;&Lambda;&Omicron;&Nu;&Iota;&Kappa;&Eta;&Sigma;\n &Tau;&eta;&lambda;. 2310 
 462 744 Fax: 2310 463 455&nbsp;\n&Mu;&pi;&omicron;&rho;&epsilon;ί&tau;&epsi
 lon; &nu;&alpha; &kappa;&alpha;&tau;&epsilon;&beta;ά&sigma;&epsilon;&tau;&e
 psilon; &tau;&omicron; "&Rho;ή&mu;&alpha;&tau;&alpha; &Zeta;&omega;ή&sigmaf
 ; &Iota;B_&Mu;&alpha;&tau;&theta;&alpha;ί&omicron;&upsilon;"...\n\n\n\n&Sig
 ma;&alpha;&sigmaf; &epsilon;&upsilon;&chi;ό&mu;&alpha;&sigma;&tau;&epsilon;
  &kappa;&alpha;&lambda;ή &alpha;&nu;ά&gamma;&nu;&omega;&sigma;&eta; &kappa;
 &alpha;&iota; &sigma;&alpha;&sigmaf; &pi;&epsilon;&rho;&iota;&mu;έ&nu;&omic
 ron;&upsilon;&mu;&epsilon; &kappa;ά&theta;&epsilon; &Kappa;&upsilon;&rho;&i
 ota;&alpha;&kappa;ή &mu;&epsilon;&tau;ά &tau;&eta;&nu; &lambda;&epsilon;&io
 ta;&tau;&omicron;&upsilon;&rho;&gamma;ί&alpha; &nu;&alpha; &pi;&iota;&omicr
 on;ύ&mu;&epsilon; &kappa;&alpha;&phi;έ &kappa;&alpha;&iota; &nu;&alpha; &ga
 mma;&nu;&omega;&rho;&iota;&sigma;&tau;&omicron;ύ&mu;&epsilon;.\n
DTSTAMP:20260420T210647Z
DTSTART;TZID=Europe/Athens;VALUE=DATE:20220904
DTEND;TZID=Europe/Athens;VALUE=DATE:20220905
SEQUENCE:0
TRANSP:OPAQUE
END:VEVENT
END:VCALENDAR