BEGIN:VCALENDAR
VERSION:2.0
PRODID:-//jEvents 2.0 for Joomla//EN
CALSCALE:GREGORIAN
METHOD:PUBLISH
BEGIN:VTIMEZONE
TZID:Europe/Athens
BEGIN:STANDARD
DTSTART:20231029T030000
RDATE:20240331T040000
TZOFFSETFROM:+0300
TZOFFSETTO:+0200
TZNAME:Europe/Athens EET
END:STANDARD
BEGIN:STANDARD
DTSTART:20241027T030000
RDATE:20250330T040000
TZOFFSETFROM:+0300
TZOFFSETTO:+0200
TZNAME:Europe/Athens EET
END:STANDARD
BEGIN:STANDARD
DTSTART:20251026T030000
RDATE:20260329T040000
TZOFFSETFROM:+0300
TZOFFSETTO:+0200
TZNAME:Europe/Athens EET
END:STANDARD
BEGIN:STANDARD
DTSTART:20261025T030000
RDATE:20270328T040000
TZOFFSETFROM:+0300
TZOFFSETTO:+0200
TZNAME:Europe/Athens EET
END:STANDARD
BEGIN:STANDARD
DTSTART:20271031T030000
RDATE:20280326T040000
TZOFFSETFROM:+0300
TZOFFSETTO:+0200
TZNAME:Europe/Athens EET
END:STANDARD
BEGIN:STANDARD
DTSTART:20281029T030000
RDATE:20290325T040000
TZOFFSETFROM:+0300
TZOFFSETTO:+0200
TZNAME:Europe/Athens EET
END:STANDARD
BEGIN:STANDARD
DTSTART:20291028T030000
RDATE:20300331T040000
TZOFFSETFROM:+0300
TZOFFSETTO:+0200
TZNAME:Europe/Athens EET
END:STANDARD
BEGIN:STANDARD
DTSTART:20301027T030000
RDATE:20310330T040000
TZOFFSETFROM:+0300
TZOFFSETTO:+0200
TZNAME:Europe/Athens EET
END:STANDARD
BEGIN:DAYLIGHT
DTSTART:20230914T000000
RDATE:20231029T030000
TZOFFSETFROM:+0200
TZOFFSETTO:+0300
TZNAME:Europe/Athens EEST
END:DAYLIGHT
BEGIN:DAYLIGHT
DTSTART:20240331T040000
RDATE:20241027T030000
TZOFFSETFROM:+0200
TZOFFSETTO:+0300
TZNAME:Europe/Athens EEST
END:DAYLIGHT
BEGIN:DAYLIGHT
DTSTART:20250330T040000
RDATE:20251026T030000
TZOFFSETFROM:+0200
TZOFFSETTO:+0300
TZNAME:Europe/Athens EEST
END:DAYLIGHT
BEGIN:DAYLIGHT
DTSTART:20260329T040000
RDATE:20261025T030000
TZOFFSETFROM:+0200
TZOFFSETTO:+0300
TZNAME:Europe/Athens EEST
END:DAYLIGHT
BEGIN:DAYLIGHT
DTSTART:20270328T040000
RDATE:20271031T030000
TZOFFSETFROM:+0200
TZOFFSETTO:+0300
TZNAME:Europe/Athens EEST
END:DAYLIGHT
BEGIN:DAYLIGHT
DTSTART:20280326T040000
RDATE:20281029T030000
TZOFFSETFROM:+0200
TZOFFSETTO:+0300
TZNAME:Europe/Athens EEST
END:DAYLIGHT
BEGIN:DAYLIGHT
DTSTART:20290325T040000
RDATE:20291028T030000
TZOFFSETFROM:+0200
TZOFFSETTO:+0300
TZNAME:Europe/Athens EEST
END:DAYLIGHT
BEGIN:DAYLIGHT
DTSTART:20300331T040000
RDATE:20301027T030000
TZOFFSETFROM:+0200
TZOFFSETTO:+0300
TZNAME:Europe/Athens EEST
END:DAYLIGHT
END:VTIMEZONE
BEGIN:VEVENT
UID:4e9408f96dcc5ba4704f6a7fe3671beb
CATEGORIES:ΡΗΜΑΤΑ ΖΩΗΣ
SUMMARY:ΜΗΝΟΛΟΓΙΟΝ  ΥΜΝΟΛΟΓΙΚΑ ΤΕΥΧΗ ΓΙΑ ΤΟ ΕΚΚΛΗΣΙΑΣΜΑ 
DESCRIPTION;ENCODING=QUOTED-PRINTABLE:ΜΗΝΟΛΟΓΙΟΝ  ΥΜΝΟΛΟΓΙΚΑ ΤΕΥΧΗ ΓΙΑ ΤΟ ΕΚΚΛΗΣΙΑΣΜΑ \n&Epsilon;&Beta;&Delta;&Om
 icron;&Mu;&Alpha;&Delta;&Iota;&Alpha;&Iota;&Omicron; &Delta;&Epsilon;&Lambd
 a;&Tau;&Iota;&Omicron; &Beta;&Iota;&Beta;&Lambda;&Iota;&Kappa;&Omicron;&Ups
 ilon; &Lambda;&Omicron;&Gamma;&Omicron;&Upsilon; &Tau;&Omicron;&Upsilon; &O
 micron;&Rho;&Theta;&Omicron;&Delta;&Omicron;&Xi;&Omicron;&Upsilon; &Epsilon
 ;&Kappa;&Kappa;&Lambda;&Eta;&Sigma;&Iota;&Alpha;&Sigma;&Tau;&Iota;&Kappa;&O
 micron;&Upsilon; &Iota;&Delta;&Rho;&Upsilon;&Mu;&Alpha;&Tau;&Omicron;&Sigma
 ;&nbsp;&Pi;&Alpha;&Iota;&Delta;&Alpha;&Gamma;&Omega;&Gamma;&Iota;&Kappa;&Om
 ega;&Nu; &amp; &Kappa;&Omicron;&Iota;&Nu;&Omega;&Nu;&Iota;&Kappa;&Omega;&Nu
 ; &Epsilon;&Phi;&Alpha;&Rho;&Mu;&Omicron;&Gamma;&Omega;&Nu; &Iota;&Epsilon;
 &Rho;&Alpha;&Sigma; &Mu;&Eta;&Tau;&Rho;&Omicron;&Pi;&Omicron;&Lambda;&Epsil
 on;&Omega;&Sigma; &Kappa;&Alpha;&Sigma;&Sigma;&Alpha;&Nu;&Delta;&Rho;&Epsil
 on;&Iota;&Alpha;&Sigma;\n &laquo;&Omicron; &Epsilon;&Upsilon;&Alpha;&Gamma;
 &Gamma;&Epsilon;&Lambda;&Iota;&Sigma;&Tau;&Eta;&Sigma; &Mu;&Alpha;&Rho;&Kap
 pa;&Omicron;&Sigma;&raquo;\n Ἐ&pi;&iota;&mu;&epsilon;&lambda;&eta;&tau;ή&si
 gmaf; ὕ&lambda;&eta;&sigmaf;: \n &Pi;&rho;&omega;&tau;&omicron;&pi;&rho;&ep
 silon;&sigma;&beta;ύ&tau;&epsilon;&rho;&omicron;&sigmaf; &Kappa;&omega;&nu;
 . &Pi;&lambda;&epsilon;&upsilon;&rho;ά&kappa;&eta;&sigmaf;\n T&Theta; 60060
 , &Tau;&Kappa; 57001 &Theta;&Epsilon;&Rho;&Mu;&Eta; &Theta;&Epsilon;&Sigma;
 &Sigma;&Alpha;&Lambda;&Omicron;&Nu;&Iota;&Kappa;&Eta;&Sigma;\n &Tau;&eta;&l
 ambda;. 2310 462 744 Fax: 2310 463 455&nbsp;\nΜπορείτε να κατεβάσετε το ΜΗΝ
 ΟΛΟΓΙΟΝ ΥΜΝΟΛΟΓΙΚΑ ΤΕΥΧΗ ΓΙΑ ΤΟ ΕΚΚΛΗΣΙΑΣΜΑ ..\n\n\n\n&Sigma;&alpha;&sigmaf
 ; &epsilon;&upsilon;&chi;ό&mu;&alpha;&sigma;&tau;&epsilon; &kappa;&alpha;&l
 ambda;ή &alpha;&nu;ά&gamma;&nu;&omega;&sigma;&eta; &kappa;&alpha;&iota; &si
 gma;&alpha;&sigmaf; &pi;&epsilon;&rho;&iota;&mu;έ&nu;&omicron;&upsilon;&mu;
 &epsilon; &kappa;ά&theta;&epsilon; &Kappa;&upsilon;&rho;&iota;&alpha;&kappa
 ;ή &mu;&epsilon;&tau;ά &tau;&eta;&nu; &lambda;&epsilon;&iota;&tau;&omicron;
 &upsilon;&rho;&gamma;ί&alpha; &nu;&alpha; &pi;&iota;&omicron;ύ&mu;&epsilon;
  &kappa;&alpha;&phi;έ &kappa;&alpha;&iota; &nu;&alpha; &gamma;&nu;&omega;&r
 ho;&iota;&sigma;&tau;&omicron;ύ&mu;&epsilon;.\n
DTSTAMP:20260420T213207Z
DTSTART;TZID=Europe/Athens;VALUE=DATE:20240914
DTEND;TZID=Europe/Athens;VALUE=DATE:20241101
SEQUENCE:0
TRANSP:OPAQUE
END:VEVENT
END:VCALENDAR