BEGIN:VCALENDAR
VERSION:2.0
PRODID:-//jEvents 2.0 for Joomla//EN
CALSCALE:GREGORIAN
METHOD:PUBLISH
BEGIN:VTIMEZONE
TZID:Europe/Athens
BEGIN:STANDARD
DTSTART:20231029T030000
RDATE:20240331T040000
TZOFFSETFROM:+0300
TZOFFSETTO:+0200
TZNAME:Europe/Athens EET
END:STANDARD
BEGIN:STANDARD
DTSTART:20241027T030000
RDATE:20250330T040000
TZOFFSETFROM:+0300
TZOFFSETTO:+0200
TZNAME:Europe/Athens EET
END:STANDARD
BEGIN:STANDARD
DTSTART:20251026T030000
RDATE:20260329T040000
TZOFFSETFROM:+0300
TZOFFSETTO:+0200
TZNAME:Europe/Athens EET
END:STANDARD
BEGIN:STANDARD
DTSTART:20261025T030000
RDATE:20270328T040000
TZOFFSETFROM:+0300
TZOFFSETTO:+0200
TZNAME:Europe/Athens EET
END:STANDARD
BEGIN:STANDARD
DTSTART:20271031T030000
RDATE:20280326T040000
TZOFFSETFROM:+0300
TZOFFSETTO:+0200
TZNAME:Europe/Athens EET
END:STANDARD
BEGIN:STANDARD
DTSTART:20281029T030000
RDATE:20290325T040000
TZOFFSETFROM:+0300
TZOFFSETTO:+0200
TZNAME:Europe/Athens EET
END:STANDARD
BEGIN:STANDARD
DTSTART:20291028T030000
RDATE:20300331T040000
TZOFFSETFROM:+0300
TZOFFSETTO:+0200
TZNAME:Europe/Athens EET
END:STANDARD
BEGIN:STANDARD
DTSTART:20301027T030000
RDATE:20310330T040000
TZOFFSETFROM:+0300
TZOFFSETTO:+0200
TZNAME:Europe/Athens EET
END:STANDARD
BEGIN:DAYLIGHT
DTSTART:20230915T000000
RDATE:20231029T030000
TZOFFSETFROM:+0200
TZOFFSETTO:+0300
TZNAME:Europe/Athens EEST
END:DAYLIGHT
BEGIN:DAYLIGHT
DTSTART:20240331T040000
RDATE:20241027T030000
TZOFFSETFROM:+0200
TZOFFSETTO:+0300
TZNAME:Europe/Athens EEST
END:DAYLIGHT
BEGIN:DAYLIGHT
DTSTART:20250330T040000
RDATE:20251026T030000
TZOFFSETFROM:+0200
TZOFFSETTO:+0300
TZNAME:Europe/Athens EEST
END:DAYLIGHT
BEGIN:DAYLIGHT
DTSTART:20260329T040000
RDATE:20261025T030000
TZOFFSETFROM:+0200
TZOFFSETTO:+0300
TZNAME:Europe/Athens EEST
END:DAYLIGHT
BEGIN:DAYLIGHT
DTSTART:20270328T040000
RDATE:20271031T030000
TZOFFSETFROM:+0200
TZOFFSETTO:+0300
TZNAME:Europe/Athens EEST
END:DAYLIGHT
BEGIN:DAYLIGHT
DTSTART:20280326T040000
RDATE:20281029T030000
TZOFFSETFROM:+0200
TZOFFSETTO:+0300
TZNAME:Europe/Athens EEST
END:DAYLIGHT
BEGIN:DAYLIGHT
DTSTART:20290325T040000
RDATE:20291028T030000
TZOFFSETFROM:+0200
TZOFFSETTO:+0300
TZNAME:Europe/Athens EEST
END:DAYLIGHT
BEGIN:DAYLIGHT
DTSTART:20300331T040000
RDATE:20301027T030000
TZOFFSETFROM:+0200
TZOFFSETTO:+0300
TZNAME:Europe/Athens EEST
END:DAYLIGHT
END:VTIMEZONE
BEGIN:VEVENT
UID:4cc1f72a07dfb2f9f8be4e6de2970eb3
CATEGORIES:ΡΗΜΑΤΑ ΖΩΗΣ
SUMMARY:ΡΗΜΑΤΑ ΖΩΗΣ ΑΠΟΣΤΟΛΟΣ ΚΑΙ ΕΥΑΓΓΕΛΙΟ ΤΗΣ ΚΥΡΙΑΚΗΣ ΚΥΡΙΑΚΗ META ΤΗN ΥΨΩΣIN
DESCRIPTION;ENCODING=QUOTED-PRINTABLE:ΡΗΜΑΤΑ ΖΩΗΣ ΑΠΟΣΤΟΛΟΣ ΚΑΙ ΕΥΑΓΓΕΛΙΟ ΤΗΣ ΚΥΡΙΑΚΗΣ ΚΥΡΙΑΚΗ META ΤΗN ΥΨΩΣIN \n
 &Epsilon;&Beta;&Delta;&Omicron;&Mu;&Alpha;&Delta;&Iota;&Alpha;&Iota;&Omicro
 n; &Delta;&Epsilon;&Lambda;&Tau;&Iota;&Omicron; &Beta;&Iota;&Beta;&Lambda;&
 Iota;&Kappa;&Omicron;&Upsilon; &Lambda;&Omicron;&Gamma;&Omicron;&Upsilon; &
 Tau;&Omicron;&Upsilon; &Omicron;&Rho;&Theta;&Omicron;&Delta;&Omicron;&Xi;&O
 micron;&Upsilon; &Epsilon;&Kappa;&Kappa;&Lambda;&Eta;&Sigma;&Iota;&Alpha;&S
 igma;&Tau;&Iota;&Kappa;&Omicron;&Upsilon; &Iota;&Delta;&Rho;&Upsilon;&Mu;&A
 lpha;&Tau;&Omicron;&Sigma;&nbsp;&Pi;&Alpha;&Iota;&Delta;&Alpha;&Gamma;&Omeg
 a;&Gamma;&Iota;&Kappa;&Omega;&Nu; &amp; &Kappa;&Omicron;&Iota;&Nu;&Omega;&N
 u;&Iota;&Kappa;&Omega;&Nu; &Epsilon;&Phi;&Alpha;&Rho;&Mu;&Omicron;&Gamma;&O
 mega;&Nu; &Iota;&Epsilon;&Rho;&Alpha;&Sigma; &Mu;&Eta;&Tau;&Rho;&Omicron;&P
 i;&Omicron;&Lambda;&Epsilon;&Omega;&Sigma; &Kappa;&Alpha;&Sigma;&Sigma;&Alp
 ha;&Nu;&Delta;&Rho;&Epsilon;&Iota;&Alpha;&Sigma;\n &laquo;&Omicron; &Epsilo
 n;&Upsilon;&Alpha;&Gamma;&Gamma;&Epsilon;&Lambda;&Iota;&Sigma;&Tau;&Eta;&Si
 gma; &Mu;&Alpha;&Rho;&Kappa;&Omicron;&Sigma;&raquo;\n Ἐ&pi;&iota;&mu;&epsil
 on;&lambda;&eta;&tau;ή&sigmaf; ὕ&lambda;&eta;&sigmaf;: \n &Pi;&rho;&omega;&
 tau;&omicron;&pi;&rho;&epsilon;&sigma;&beta;ύ&tau;&epsilon;&rho;&omicron;&s
 igmaf; &Kappa;&omega;&nu;. &Pi;&lambda;&epsilon;&upsilon;&rho;ά&kappa;&eta;
 &sigmaf;\n T&Theta; 60060, &Tau;&Kappa; 57001 &Theta;&Epsilon;&Rho;&Mu;&Eta
 ; &Theta;&Epsilon;&Sigma;&Sigma;&Alpha;&Lambda;&Omicron;&Nu;&Iota;&Kappa;&E
 ta;&Sigma;\n &Tau;&eta;&lambda;. 2310 462 744 Fax: 2310 463 455&nbsp;\nΜπορ
 είτε να κατεβάσετε το ΡΗΜΑΤΑ ΖΩΗΣ ΑΠΟΣΤΟΛΟΣ ΚΑΙ ΕΥΑΓΓΕΛΙΟ ΤΗΣ ΚΥΡΙΑΚΗΣ ΚΥΡΙ
 ΑΚΗ META ΤΗN ΥΨΩΣIN ..\n\n\n\n&Sigma;&alpha;&sigmaf; &epsilon;&upsilon;&chi
 ;ό&mu;&alpha;&sigma;&tau;&epsilon; &kappa;&alpha;&lambda;ή &alpha;&nu;ά&gam
 ma;&nu;&omega;&sigma;&eta; &kappa;&alpha;&iota; &sigma;&alpha;&sigmaf; &pi;
 &epsilon;&rho;&iota;&mu;έ&nu;&omicron;&upsilon;&mu;&epsilon; &kappa;ά&theta
 ;&epsilon; &Kappa;&upsilon;&rho;&iota;&alpha;&kappa;ή &mu;&epsilon;&tau;ά &
 tau;&eta;&nu; &lambda;&epsilon;&iota;&tau;&omicron;&upsilon;&rho;&gamma;ί&a
 lpha; &nu;&alpha; &pi;&iota;&omicron;ύ&mu;&epsilon; &kappa;&alpha;&phi;έ &k
 appa;&alpha;&iota; &nu;&alpha; &gamma;&nu;&omega;&rho;&iota;&sigma;&tau;&om
 icron;ύ&mu;&epsilon;.\n
DTSTAMP:20260420T164046Z
DTSTART;TZID=Europe/Athens;VALUE=DATE:20240915
DTEND;TZID=Europe/Athens;VALUE=DATE:20240916
SEQUENCE:0
TRANSP:OPAQUE
END:VEVENT
END:VCALENDAR