BEGIN:VCALENDAR
VERSION:2.0
PRODID:-//jEvents 2.0 for Joomla//EN
CALSCALE:GREGORIAN
METHOD:PUBLISH
BEGIN:VTIMEZONE
TZID:Europe/Athens
BEGIN:STANDARD
DTSTART:20231029T030000
RDATE:20240331T040000
TZOFFSETFROM:+0300
TZOFFSETTO:+0200
TZNAME:Europe/Athens EET
END:STANDARD
BEGIN:STANDARD
DTSTART:20241027T030000
RDATE:20250330T040000
TZOFFSETFROM:+0300
TZOFFSETTO:+0200
TZNAME:Europe/Athens EET
END:STANDARD
BEGIN:STANDARD
DTSTART:20251026T030000
RDATE:20260329T040000
TZOFFSETFROM:+0300
TZOFFSETTO:+0200
TZNAME:Europe/Athens EET
END:STANDARD
BEGIN:STANDARD
DTSTART:20261025T030000
RDATE:20270328T040000
TZOFFSETFROM:+0300
TZOFFSETTO:+0200
TZNAME:Europe/Athens EET
END:STANDARD
BEGIN:STANDARD
DTSTART:20271031T030000
RDATE:20280326T040000
TZOFFSETFROM:+0300
TZOFFSETTO:+0200
TZNAME:Europe/Athens EET
END:STANDARD
BEGIN:STANDARD
DTSTART:20281029T030000
RDATE:20290325T040000
TZOFFSETFROM:+0300
TZOFFSETTO:+0200
TZNAME:Europe/Athens EET
END:STANDARD
BEGIN:STANDARD
DTSTART:20291028T030000
RDATE:20300331T040000
TZOFFSETFROM:+0300
TZOFFSETTO:+0200
TZNAME:Europe/Athens EET
END:STANDARD
BEGIN:STANDARD
DTSTART:20301027T030000
RDATE:20310330T040000
TZOFFSETFROM:+0300
TZOFFSETTO:+0200
TZNAME:Europe/Athens EET
END:STANDARD
BEGIN:DAYLIGHT
DTSTART:20230918T000000
RDATE:20231029T030000
TZOFFSETFROM:+0200
TZOFFSETTO:+0300
TZNAME:Europe/Athens EEST
END:DAYLIGHT
BEGIN:DAYLIGHT
DTSTART:20240331T040000
RDATE:20241027T030000
TZOFFSETFROM:+0200
TZOFFSETTO:+0300
TZNAME:Europe/Athens EEST
END:DAYLIGHT
BEGIN:DAYLIGHT
DTSTART:20250330T040000
RDATE:20251026T030000
TZOFFSETFROM:+0200
TZOFFSETTO:+0300
TZNAME:Europe/Athens EEST
END:DAYLIGHT
BEGIN:DAYLIGHT
DTSTART:20260329T040000
RDATE:20261025T030000
TZOFFSETFROM:+0200
TZOFFSETTO:+0300
TZNAME:Europe/Athens EEST
END:DAYLIGHT
BEGIN:DAYLIGHT
DTSTART:20270328T040000
RDATE:20271031T030000
TZOFFSETFROM:+0200
TZOFFSETTO:+0300
TZNAME:Europe/Athens EEST
END:DAYLIGHT
BEGIN:DAYLIGHT
DTSTART:20280326T040000
RDATE:20281029T030000
TZOFFSETFROM:+0200
TZOFFSETTO:+0300
TZNAME:Europe/Athens EEST
END:DAYLIGHT
BEGIN:DAYLIGHT
DTSTART:20290325T040000
RDATE:20291028T030000
TZOFFSETFROM:+0200
TZOFFSETTO:+0300
TZNAME:Europe/Athens EEST
END:DAYLIGHT
BEGIN:DAYLIGHT
DTSTART:20300331T040000
RDATE:20301027T030000
TZOFFSETFROM:+0200
TZOFFSETTO:+0300
TZNAME:Europe/Athens EEST
END:DAYLIGHT
END:VTIMEZONE
BEGIN:VEVENT
UID:f6a0c5a6ce7a9e6d20afebd7e0191ac3
CATEGORIES:VIDEO
SUMMARY:Κυριακή Μετά την Ύψωση του Τιμίου Σταυρού 18_09_2022
DESCRIPTION;ENCODING=QUOTED-PRINTABLE:<center><p>Κυριακή Μετά την Ύψωση του Τιμίου Σταυρού 18_09_2022</p></center
 ><center><iframe width="630" height="484" src="https://www.youtube.com/embe
 d/LcPEMmdE0Hc" title="Κυριακή Μετά την Ύψωση του Τιμίου Σταυρού 18_09_2022"
  frameborder="0" allow="accelerometer; autoplay; clipboard-write; encrypted
 -media; gyroscope; picture-in-picture; web-share" allowfullscreen></iframe>
 </center>
DTSTAMP:20260420T182034Z
DTSTART;TZID=Europe/Athens;VALUE=DATE:20240918
DTEND;TZID=Europe/Athens;VALUE=DATE:20240919
SEQUENCE:0
TRANSP:OPAQUE
END:VEVENT
END:VCALENDAR