BEGIN:VCALENDAR
VERSION:2.0
PRODID:-//jEvents 2.0 for Joomla//EN
CALSCALE:GREGORIAN
METHOD:PUBLISH
BEGIN:VTIMEZONE
TZID:Europe/Athens
BEGIN:STANDARD
DTSTART:20231201T000000
RDATE:20240331T040000
TZOFFSETFROM:+0300
TZOFFSETTO:+0200
TZNAME:Europe/Athens EET
END:STANDARD
BEGIN:STANDARD
DTSTART:20241027T030000
RDATE:20250330T040000
TZOFFSETFROM:+0300
TZOFFSETTO:+0200
TZNAME:Europe/Athens EET
END:STANDARD
BEGIN:STANDARD
DTSTART:20251026T030000
RDATE:20260329T040000
TZOFFSETFROM:+0300
TZOFFSETTO:+0200
TZNAME:Europe/Athens EET
END:STANDARD
BEGIN:STANDARD
DTSTART:20261025T030000
RDATE:20270328T040000
TZOFFSETFROM:+0300
TZOFFSETTO:+0200
TZNAME:Europe/Athens EET
END:STANDARD
BEGIN:STANDARD
DTSTART:20271031T030000
RDATE:20280326T040000
TZOFFSETFROM:+0300
TZOFFSETTO:+0200
TZNAME:Europe/Athens EET
END:STANDARD
BEGIN:STANDARD
DTSTART:20281029T030000
RDATE:20290325T040000
TZOFFSETFROM:+0300
TZOFFSETTO:+0200
TZNAME:Europe/Athens EET
END:STANDARD
BEGIN:STANDARD
DTSTART:20291028T030000
RDATE:20300331T040000
TZOFFSETFROM:+0300
TZOFFSETTO:+0200
TZNAME:Europe/Athens EET
END:STANDARD
BEGIN:STANDARD
DTSTART:20301027T030000
RDATE:20310330T040000
TZOFFSETFROM:+0300
TZOFFSETTO:+0200
TZNAME:Europe/Athens EET
END:STANDARD
BEGIN:DAYLIGHT
DTSTART:20240331T040000
RDATE:20241027T030000
TZOFFSETFROM:+0200
TZOFFSETTO:+0300
TZNAME:Europe/Athens EEST
END:DAYLIGHT
BEGIN:DAYLIGHT
DTSTART:20250330T040000
RDATE:20251026T030000
TZOFFSETFROM:+0200
TZOFFSETTO:+0300
TZNAME:Europe/Athens EEST
END:DAYLIGHT
BEGIN:DAYLIGHT
DTSTART:20260329T040000
RDATE:20261025T030000
TZOFFSETFROM:+0200
TZOFFSETTO:+0300
TZNAME:Europe/Athens EEST
END:DAYLIGHT
BEGIN:DAYLIGHT
DTSTART:20270328T040000
RDATE:20271031T030000
TZOFFSETFROM:+0200
TZOFFSETTO:+0300
TZNAME:Europe/Athens EEST
END:DAYLIGHT
BEGIN:DAYLIGHT
DTSTART:20280326T040000
RDATE:20281029T030000
TZOFFSETFROM:+0200
TZOFFSETTO:+0300
TZNAME:Europe/Athens EEST
END:DAYLIGHT
BEGIN:DAYLIGHT
DTSTART:20290325T040000
RDATE:20291028T030000
TZOFFSETFROM:+0200
TZOFFSETTO:+0300
TZNAME:Europe/Athens EEST
END:DAYLIGHT
BEGIN:DAYLIGHT
DTSTART:20300331T040000
RDATE:20301027T030000
TZOFFSETFROM:+0200
TZOFFSETTO:+0300
TZNAME:Europe/Athens EEST
END:DAYLIGHT
END:VTIMEZONE
BEGIN:VEVENT
UID:e4699e6cd96e2119b20f24bdfa166c56
CATEGORIES:ΡΗΜΑΤΑ ΖΩΗΣ
SUMMARY:ΡΗΜΑΤΑ ΖΩΗΣ  Ι∆΄ ΚΥΡΙΑΚΗΣ ΛΟΥΚΑ
DESCRIPTION;ENCODING=QUOTED-PRINTABLE:ΡΗΜΑΤΑ ΖΩΗΣ Ι∆΄ ΚΥΡΙΑΚΗΣ ΛΟΥΚΑ\n&Epsilon;&Beta;&Delta;&Omicron;&Mu;&Alpha;&
 Delta;&Iota;&Alpha;&Iota;&Omicron; &Delta;&Epsilon;&Lambda;&Tau;&Iota;&Omic
 ron; &Beta;&Iota;&Beta;&Lambda;&Iota;&Kappa;&Omicron;&Upsilon; &Lambda;&Omi
 cron;&Gamma;&Omicron;&Upsilon; &Tau;&Omicron;&Upsilon; &Omicron;&Rho;&Theta
 ;&Omicron;&Delta;&Omicron;&Xi;&Omicron;&Upsilon; &Epsilon;&Kappa;&Kappa;&La
 mbda;&Eta;&Sigma;&Iota;&Alpha;&Sigma;&Tau;&Iota;&Kappa;&Omicron;&Upsilon; &
 Iota;&Delta;&Rho;&Upsilon;&Mu;&Alpha;&Tau;&Omicron;&Sigma;&nbsp;&Pi;&Alpha;
 &Iota;&Delta;&Alpha;&Gamma;&Omega;&Gamma;&Iota;&Kappa;&Omega;&Nu; &amp; &Ka
 ppa;&Omicron;&Iota;&Nu;&Omega;&Nu;&Iota;&Kappa;&Omega;&Nu; &Epsilon;&Phi;&A
 lpha;&Rho;&Mu;&Omicron;&Gamma;&Omega;&Nu; &Iota;&Epsilon;&Rho;&Alpha;&Sigma
 ; &Mu;&Eta;&Tau;&Rho;&Omicron;&Pi;&Omicron;&Lambda;&Epsilon;&Omega;&Sigma; 
 &Kappa;&Alpha;&Sigma;&Sigma;&Alpha;&Nu;&Delta;&Rho;&Epsilon;&Iota;&Alpha;&S
 igma;\n &laquo;&Omicron; &Epsilon;&Upsilon;&Alpha;&Gamma;&Gamma;&Epsilon;&L
 ambda;&Iota;&Sigma;&Tau;&Eta;&Sigma; &Mu;&Alpha;&Rho;&Kappa;&Omicron;&Sigma
 ;&raquo;\n Ἐ&pi;&iota;&mu;&epsilon;&lambda;&eta;&tau;ή&sigmaf; ὕ&lambda;&et
 a;&sigmaf;: \n &Pi;&rho;&omega;&tau;&omicron;&pi;&rho;&epsilon;&sigma;&beta
 ;ύ&tau;&epsilon;&rho;&omicron;&sigmaf; &Kappa;&omega;&nu;. &Pi;&lambda;&eps
 ilon;&upsilon;&rho;ά&kappa;&eta;&sigmaf;\n T&Theta; 60060, &Tau;&Kappa; 570
 01 &Theta;&Epsilon;&Rho;&Mu;&Eta; &Theta;&Epsilon;&Sigma;&Sigma;&Alpha;&Lam
 bda;&Omicron;&Nu;&Iota;&Kappa;&Eta;&Sigma;\n &Tau;&eta;&lambda;. 2310 462 7
 44 Fax: 2310 463 455&nbsp;\nΜπορείτε να κατεβάσετε το ΡΗΜΑΤΑ ΖΩΗΣ Ι∆΄ ΚΥΡΙΑ
 ΚΗΣ ΛΟΥΚΑ..\n\n\n\n&Sigma;&alpha;&sigmaf; &epsilon;&upsilon;&chi;ό&mu;&alph
 a;&sigma;&tau;&epsilon; &kappa;&alpha;&lambda;ή &alpha;&nu;ά&gamma;&nu;&ome
 ga;&sigma;&eta; &kappa;&alpha;&iota; &sigma;&alpha;&sigmaf; &pi;&epsilon;&r
 ho;&iota;&mu;έ&nu;&omicron;&upsilon;&mu;&epsilon; &kappa;ά&theta;&epsilon; 
 &Kappa;&upsilon;&rho;&iota;&alpha;&kappa;ή &mu;&epsilon;&tau;ά &tau;&eta;&n
 u; &lambda;&epsilon;&iota;&tau;&omicron;&upsilon;&rho;&gamma;ί&alpha; &nu;&
 alpha; &pi;&iota;&omicron;ύ&mu;&epsilon; &kappa;&alpha;&phi;έ &kappa;&alpha
 ;&iota; &nu;&alpha; &gamma;&nu;&omega;&rho;&iota;&sigma;&tau;&omicron;ύ&mu;
 &epsilon;.\n
DTSTAMP:20260420T163942Z
DTSTART;TZID=Europe/Athens;VALUE=DATE:20241201
DTEND;TZID=Europe/Athens;VALUE=DATE:20241202
SEQUENCE:0
TRANSP:OPAQUE
END:VEVENT
END:VCALENDAR