BEGIN:VCALENDAR
VERSION:2.0
PRODID:-//jEvents 2.0 for Joomla//EN
CALSCALE:GREGORIAN
METHOD:PUBLISH
BEGIN:VTIMEZONE
TZID:Europe/Athens
BEGIN:STANDARD
DTSTART:20231221T000000
RDATE:20240331T040000
TZOFFSETFROM:+0300
TZOFFSETTO:+0200
TZNAME:Europe/Athens EET
END:STANDARD
BEGIN:STANDARD
DTSTART:20241027T030000
RDATE:20250330T040000
TZOFFSETFROM:+0300
TZOFFSETTO:+0200
TZNAME:Europe/Athens EET
END:STANDARD
BEGIN:STANDARD
DTSTART:20251026T030000
RDATE:20260329T040000
TZOFFSETFROM:+0300
TZOFFSETTO:+0200
TZNAME:Europe/Athens EET
END:STANDARD
BEGIN:STANDARD
DTSTART:20261025T030000
RDATE:20270328T040000
TZOFFSETFROM:+0300
TZOFFSETTO:+0200
TZNAME:Europe/Athens EET
END:STANDARD
BEGIN:STANDARD
DTSTART:20271031T030000
RDATE:20280326T040000
TZOFFSETFROM:+0300
TZOFFSETTO:+0200
TZNAME:Europe/Athens EET
END:STANDARD
BEGIN:STANDARD
DTSTART:20281029T030000
RDATE:20290325T040000
TZOFFSETFROM:+0300
TZOFFSETTO:+0200
TZNAME:Europe/Athens EET
END:STANDARD
BEGIN:STANDARD
DTSTART:20291028T030000
RDATE:20300331T040000
TZOFFSETFROM:+0300
TZOFFSETTO:+0200
TZNAME:Europe/Athens EET
END:STANDARD
BEGIN:STANDARD
DTSTART:20301027T030000
RDATE:20310330T040000
TZOFFSETFROM:+0300
TZOFFSETTO:+0200
TZNAME:Europe/Athens EET
END:STANDARD
BEGIN:DAYLIGHT
DTSTART:20240331T040000
RDATE:20241027T030000
TZOFFSETFROM:+0200
TZOFFSETTO:+0300
TZNAME:Europe/Athens EEST
END:DAYLIGHT
BEGIN:DAYLIGHT
DTSTART:20250330T040000
RDATE:20251026T030000
TZOFFSETFROM:+0200
TZOFFSETTO:+0300
TZNAME:Europe/Athens EEST
END:DAYLIGHT
BEGIN:DAYLIGHT
DTSTART:20260329T040000
RDATE:20261025T030000
TZOFFSETFROM:+0200
TZOFFSETTO:+0300
TZNAME:Europe/Athens EEST
END:DAYLIGHT
BEGIN:DAYLIGHT
DTSTART:20270328T040000
RDATE:20271031T030000
TZOFFSETFROM:+0200
TZOFFSETTO:+0300
TZNAME:Europe/Athens EEST
END:DAYLIGHT
BEGIN:DAYLIGHT
DTSTART:20280326T040000
RDATE:20281029T030000
TZOFFSETFROM:+0200
TZOFFSETTO:+0300
TZNAME:Europe/Athens EEST
END:DAYLIGHT
BEGIN:DAYLIGHT
DTSTART:20290325T040000
RDATE:20291028T030000
TZOFFSETFROM:+0200
TZOFFSETTO:+0300
TZNAME:Europe/Athens EEST
END:DAYLIGHT
BEGIN:DAYLIGHT
DTSTART:20300331T040000
RDATE:20301027T030000
TZOFFSETFROM:+0200
TZOFFSETTO:+0300
TZNAME:Europe/Athens EEST
END:DAYLIGHT
END:VTIMEZONE
BEGIN:VEVENT
UID:cbef31c62eef3a1033c00b747261c8ba
CATEGORIES:ΓΙΟΡΤΕΣ
SUMMARY:Η ΑΚΟΛΟΥΘΙΑ ΤΩΝ ΜΕΓΑΛΩΝ ΩΡΩΝ ΤΩΝ ΧΡΙΣΤΟΥΓΕΝΝΩΝ
DESCRIPTION;ENCODING=QUOTED-PRINTABLE:<p style="text-align: center;"><strong>ΣΕΙΡΑ ΛΕΙΤΟΥΡΓΙΚΩΝ ΒΟΗΘΗΜΑΤΩΝ ΔΩΔΕΚΑ
 ΗΜΕΡΟΥ</strong></p><p style="text-align: center;"><strong><a href="https://
 www.agiomarko.gr/images/agmarkos/2024/akolouthia-xrist.pdf" target="_blank"
 >Η ΑΚΟΛΟΥΘΙΑ ΤΩΝ ΜΕΓΑΛΩΝ ΩΡΩΝ ΤΩΝ ΧΡΙΣΤΟΥΓΕΝΝΩΝ</a></strong></p><p style="t
 ext-align: center;"><strong><a href="https://www.agiomarko.gr/images/agmark
 os/2024/akolouthia-xrist2.pdf" target="_blank">ΑΚΟΛΟΥΘΙΑ ΤΩΝ ΜΕΓΑΛΩΝ ΩΡΩΝ Τ
 ΩΝ ΧΡΙΣΤΟΥΓΕΝΝΩΝ 2</a></strong></p><p style="text-align: center;"><strong><
 a href="https://www.agiomarko.gr/images/agmarkos/2024/esperinos_xrist.pdf" 
 target="_blank">Ο ΕΣΠΕΡΙΝΟΣ ΤΩΝ ΧΡΙΣΤΟΥΓΕΝΝΩΝ</a></strong></p><p style="tex
 t-align: center;"><strong><a href="https://www.agiomarko.gr/images/agmarkos
 /2024/orthos_lit.pdf" target="_blank">ΟΡΘΡΟΣ ΚΑΙ ΛΕΙΤΟΥΡΓΙΑ ΤΩΝ ΧΡΙΣΤΟΥΓΕΝΝ
 ΩΝ</a></strong></p>
DTSTAMP:20260420T164407Z
DTSTART;TZID=Europe/Athens;VALUE=DATE:20241221
DTEND;TZID=Europe/Athens;VALUE=DATE:20260108
SEQUENCE:0
TRANSP:OPAQUE
END:VEVENT
END:VCALENDAR