BEGIN:VCALENDAR
VERSION:2.0
PRODID:-//jEvents 2.0 for Joomla//EN
CALSCALE:GREGORIAN
METHOD:PUBLISH
BEGIN:VTIMEZONE
TZID:Europe/Athens
BEGIN:STANDARD
DTSTART:20240223T000000
RDATE:20240331T040000
TZOFFSETFROM:+0300
TZOFFSETTO:+0200
TZNAME:Europe/Athens EET
END:STANDARD
BEGIN:STANDARD
DTSTART:20241027T030000
RDATE:20250330T040000
TZOFFSETFROM:+0300
TZOFFSETTO:+0200
TZNAME:Europe/Athens EET
END:STANDARD
BEGIN:STANDARD
DTSTART:20251026T030000
RDATE:20260329T040000
TZOFFSETFROM:+0300
TZOFFSETTO:+0200
TZNAME:Europe/Athens EET
END:STANDARD
BEGIN:STANDARD
DTSTART:20261025T030000
RDATE:20270328T040000
TZOFFSETFROM:+0300
TZOFFSETTO:+0200
TZNAME:Europe/Athens EET
END:STANDARD
BEGIN:STANDARD
DTSTART:20271031T030000
RDATE:20280326T040000
TZOFFSETFROM:+0300
TZOFFSETTO:+0200
TZNAME:Europe/Athens EET
END:STANDARD
BEGIN:STANDARD
DTSTART:20281029T030000
RDATE:20290325T040000
TZOFFSETFROM:+0300
TZOFFSETTO:+0200
TZNAME:Europe/Athens EET
END:STANDARD
BEGIN:STANDARD
DTSTART:20291028T030000
RDATE:20300331T040000
TZOFFSETFROM:+0300
TZOFFSETTO:+0200
TZNAME:Europe/Athens EET
END:STANDARD
BEGIN:STANDARD
DTSTART:20301027T030000
RDATE:20310330T040000
TZOFFSETFROM:+0300
TZOFFSETTO:+0200
TZNAME:Europe/Athens EET
END:STANDARD
BEGIN:DAYLIGHT
DTSTART:20240331T040000
RDATE:20241027T030000
TZOFFSETFROM:+0200
TZOFFSETTO:+0300
TZNAME:Europe/Athens EEST
END:DAYLIGHT
BEGIN:DAYLIGHT
DTSTART:20250330T040000
RDATE:20251026T030000
TZOFFSETFROM:+0200
TZOFFSETTO:+0300
TZNAME:Europe/Athens EEST
END:DAYLIGHT
BEGIN:DAYLIGHT
DTSTART:20260329T040000
RDATE:20261025T030000
TZOFFSETFROM:+0200
TZOFFSETTO:+0300
TZNAME:Europe/Athens EEST
END:DAYLIGHT
BEGIN:DAYLIGHT
DTSTART:20270328T040000
RDATE:20271031T030000
TZOFFSETFROM:+0200
TZOFFSETTO:+0300
TZNAME:Europe/Athens EEST
END:DAYLIGHT
BEGIN:DAYLIGHT
DTSTART:20280326T040000
RDATE:20281029T030000
TZOFFSETFROM:+0200
TZOFFSETTO:+0300
TZNAME:Europe/Athens EEST
END:DAYLIGHT
BEGIN:DAYLIGHT
DTSTART:20290325T040000
RDATE:20291028T030000
TZOFFSETFROM:+0200
TZOFFSETTO:+0300
TZNAME:Europe/Athens EEST
END:DAYLIGHT
BEGIN:DAYLIGHT
DTSTART:20300331T040000
RDATE:20301027T030000
TZOFFSETFROM:+0200
TZOFFSETTO:+0300
TZNAME:Europe/Athens EEST
END:DAYLIGHT
END:VTIMEZONE
BEGIN:VEVENT
UID:7c4053239699dcdf39b3e6cb67a15c5b
CATEGORIES:ΓΙΟΡΤΕΣ
SUMMARY:Κυριακή της Απόκρεω 23/02/2025 θα οργανώσουμε ένα τραπέζι στο ίδρυμά μας
DESCRIPTION;ENCODING=QUOTED-PRINTABLE:<p>Αγαπητοί αδελφοί, χαίρετε εν Κυρίω πάντοτε. </p><p>Όπως συνηθίζουμε κάθε
  χρονιά, παραμονές των νηστειών, έτσι και φέτος την Κυριακή της Απόκρεω 23/
 02/2025 θα οργανώσουμε ένα τραπέζι στο ίδρυμά μας. </p><p>Είναι μια συνήθει
 α που καθιέρωσε ο μακαριστός π. Κωνσταντίνος, ώστε να συντρώμε και με αγάπη
  να παίρνουμε δύναμη ο ένας από τον άλλο για την επερχόμενη περίοδο <p>νηστ
 είας και προετοιμασίας για να ζήσουμε τα Άγια Πάθη και την Ανάσταση του Κυρ
 ίου μας. </p><p>Όπως πάντα θα έχει εκλεκτό φαγητό και κρασί. Η συμμετοχή θα
  είναι 15€ για τους ενήλικες και 10€ για παιδιά Γυμνασίου -Λυκείου, τα παιδ
 ιά Δημοτικού δωρεάν.</p><p>Παρακαλώ για την καλύτερη οργάνωση των προμηθειώ
 ν όσοι επιθυμούν να συμμετάσχουν να το δηλώσουν,  στο 6948232682 με τηλέφων
 ο ή μήνυμα.</p>
DTSTAMP:20260420T164428Z
DTSTART;TZID=Europe/Athens;VALUE=DATE:20250223
DTEND;TZID=Europe/Athens;VALUE=DATE:20250224
SEQUENCE:0
TRANSP:OPAQUE
END:VEVENT
END:VCALENDAR