BEGIN:VCALENDAR
VERSION:2.0
PRODID:-//jEvents 2.0 for Joomla//EN
CALSCALE:GREGORIAN
METHOD:PUBLISH
BEGIN:VTIMEZONE
TZID:Europe/Athens
BEGIN:STANDARD
DTSTART:20240308T000000
RDATE:20240331T040000
TZOFFSETFROM:+0300
TZOFFSETTO:+0200
TZNAME:Europe/Athens EET
END:STANDARD
BEGIN:STANDARD
DTSTART:20241027T030000
RDATE:20250330T040000
TZOFFSETFROM:+0300
TZOFFSETTO:+0200
TZNAME:Europe/Athens EET
END:STANDARD
BEGIN:STANDARD
DTSTART:20251026T030000
RDATE:20260329T040000
TZOFFSETFROM:+0300
TZOFFSETTO:+0200
TZNAME:Europe/Athens EET
END:STANDARD
BEGIN:STANDARD
DTSTART:20261025T030000
RDATE:20270328T040000
TZOFFSETFROM:+0300
TZOFFSETTO:+0200
TZNAME:Europe/Athens EET
END:STANDARD
BEGIN:STANDARD
DTSTART:20271031T030000
RDATE:20280326T040000
TZOFFSETFROM:+0300
TZOFFSETTO:+0200
TZNAME:Europe/Athens EET
END:STANDARD
BEGIN:STANDARD
DTSTART:20281029T030000
RDATE:20290325T040000
TZOFFSETFROM:+0300
TZOFFSETTO:+0200
TZNAME:Europe/Athens EET
END:STANDARD
BEGIN:STANDARD
DTSTART:20291028T030000
RDATE:20300331T040000
TZOFFSETFROM:+0300
TZOFFSETTO:+0200
TZNAME:Europe/Athens EET
END:STANDARD
BEGIN:STANDARD
DTSTART:20301027T030000
RDATE:20310330T040000
TZOFFSETFROM:+0300
TZOFFSETTO:+0200
TZNAME:Europe/Athens EET
END:STANDARD
BEGIN:DAYLIGHT
DTSTART:20240331T040000
RDATE:20241027T030000
TZOFFSETFROM:+0200
TZOFFSETTO:+0300
TZNAME:Europe/Athens EEST
END:DAYLIGHT
BEGIN:DAYLIGHT
DTSTART:20250330T040000
RDATE:20251026T030000
TZOFFSETFROM:+0200
TZOFFSETTO:+0300
TZNAME:Europe/Athens EEST
END:DAYLIGHT
BEGIN:DAYLIGHT
DTSTART:20260329T040000
RDATE:20261025T030000
TZOFFSETFROM:+0200
TZOFFSETTO:+0300
TZNAME:Europe/Athens EEST
END:DAYLIGHT
BEGIN:DAYLIGHT
DTSTART:20270328T040000
RDATE:20271031T030000
TZOFFSETFROM:+0200
TZOFFSETTO:+0300
TZNAME:Europe/Athens EEST
END:DAYLIGHT
BEGIN:DAYLIGHT
DTSTART:20280326T040000
RDATE:20281029T030000
TZOFFSETFROM:+0200
TZOFFSETTO:+0300
TZNAME:Europe/Athens EEST
END:DAYLIGHT
BEGIN:DAYLIGHT
DTSTART:20290325T040000
RDATE:20291028T030000
TZOFFSETFROM:+0200
TZOFFSETTO:+0300
TZNAME:Europe/Athens EEST
END:DAYLIGHT
BEGIN:DAYLIGHT
DTSTART:20300331T040000
RDATE:20301027T030000
TZOFFSETFROM:+0200
TZOFFSETTO:+0300
TZNAME:Europe/Athens EEST
END:DAYLIGHT
END:VTIMEZONE
BEGIN:VEVENT
UID:1b5215c3924e1c514ecf747828f9570b
CATEGORIES:ΓΙΟΡΤΕΣ
SUMMARY:Ο  ΕΤΗΣΙΟΣ ΕΟΡΤΑΣΜΟΣ  ΤΗΣ ΟΡΘΟ∆ΟΞΙΑΣ  ΣΤΗΝ  ΟΡΘΟ∆ΟΞΗ ΕΚΚΛΗΣΙΑ  ΤΗΝ  Α ΚΥΡΙΑΚΗ ΤΩΝ ΝΗΣΤΕΙΩΝ 
DESCRIPTION;ENCODING=QUOTED-PRINTABLE:\n\n&nbsp;\n\n\n&Omicron; &Epsilon;&Tau;&Eta;&Sigma;&Iota;&Omicron;&Sigma; 
 &Epsilon;&Omicron;&Rho;&Tau;&Alpha;&Sigma;&Mu;&Omicron;&Sigma; &Tau;&Eta;&S
 igma; &Omicron;&Rho;&Theta;&Omicron;∆&Omicron;&Xi;&Iota;&Alpha;&Sigma; &Sig
 ma;&Tau;&Eta;&Nu; &Omicron;&Rho;&Theta;&Omicron;∆&Omicron;&Xi;&Eta; &Epsilo
 n;&Kappa;&Kappa;&Lambda;&Eta;&Sigma;&Iota;&Alpha; &Tau;&Eta;&Nu; &Alpha; &K
 appa;&Upsilon;&Rho;&Iota;&Alpha;&Kappa;&Eta; &Tau;Ω&Nu; &Nu;&Eta;&Sigma;&Ta
 u;&Epsilon;&Iota;Ω&Nu;&nbsp;\n\n\n&Tau;&Rho;&Iota;Ω∆&Iota;&Omicron;&Nu; &Up
 silon;&Mu;&Nu;&Omicron;&Lambda;&Omicron;&Gamma;&Iota;&Kappa;&Alpha; &Tau;&E
 psilon;&Upsilon;&Chi;&Eta; &Gamma;&Iota;&Alpha; &Tau;&Omicron; &Epsilon;&Ka
 ppa;&Kappa;&Lambda;&Eta;&Sigma;&Iota;&Alpha;&Sigma;&Mu;&Alpha; 5&Alpha;΄ &A
 lpha;΄ &Kappa;&Upsilon;&Rho;&Iota;&Alpha;&Kappa;&Eta; &Tau;Ω&Nu; &Nu;&Eta;&
 Sigma;&Tau;&Epsilon;&Iota;Ω&Nu; &Kappa;&Upsilon;&Rho;&Iota;&Alpha;&Kappa;&E
 ta; &Tau;&Eta;&Sigma; &Omicron;&Rho;&Theta;&Omicron;∆&Omicron;&Xi;&Iota;&Al
 pha;&Sigma; &Kappa;&Alpha;&Iota; ∆&Epsilon;&Upsilon;&Tau;&Epsilon;&Rho;&Alp
 ha; &Epsilon;&Beta;∆&Omicron;&Mu;&Alpha;∆&Alpha; &Nu;&Eta;&Sigma;&Tau;&Epsi
 lon;&Iota;Ω&Nu;&nbsp;\n\n\n&Rho;&Eta;&Mu;&Alpha;&Tau;&Alpha; &Zeta;Ω&Eta;&S
 igma; &Alpha;΄ &Kappa;&Upsilon;&Rho;&Iota;&Alpha;&Kappa;&Eta; &Nu;&Eta;&Sig
 ma;&Tau;&Epsilon;&Iota;Ω&Nu;\n\n\n&nbsp;\n
DTSTAMP:20260420T164048Z
DTSTART;TZID=Europe/Athens;VALUE=DATE:20250309
DTEND;TZID=Europe/Athens;VALUE=DATE:20250311
SEQUENCE:0
TRANSP:OPAQUE
END:VEVENT
END:VCALENDAR